BEGIN:VCALENDAR
VERSION:2.0
PRODID:-//Δήμος Ξάνθης//NONSGML kigkonsult.se iCalcreator 2.41.92//
CALSCALE:GREGORIAN
METHOD:PUBLISH
UID:39653636-3538-4133-a337-663739363532
X-WR-CALNAME:iCagenda
X-WR-CALDESC:Event Management Extension for Joomla!
X-WR-RELCALID:3E26604A-50F4-4449-8B3E-E4F4932D05B5
X-WR-TIMEZONE:Europe/Athens
BEGIN:VTIMEZONE
TZID:Europe/Athens
TZUNTIL:20271031T010000Z
BEGIN:STANDARD
TZNAME:EET
DTSTART:20251026T040000
TZOFFSETFROM:+0300
TZOFFSETTO:+0200
RDATE:20261025T040000
END:STANDARD
BEGIN:DAYLIGHT
TZNAME:EEST
DTSTART:20260329T030000
TZOFFSETFROM:+0200
TZOFFSETTO:+0300
RDATE:20270328T030000
END:DAYLIGHT
END:VTIMEZONE
BEGIN:VEVENT
UID:37303737-3238-4730-a563-303965303833
DTSTAMP:20260419T142858Z
CATEGORIES:ΠΟΛΙΤΙΣΜΟΣ
CLASS:PUBLIC
DESCRIPTION;ALTREP="CID:<FFFF__=0ABBE548DFE235B58f9e8a93d@coffeebean.com>":
 \n{youtube}jOs4YrGuNKk{/youtube}\nΚατεβάστε το φετινό πρόγραμμα σε PDF
DTSTART:20260420T104400Z
DTEND:20260425T104400Z
GEO:00;0
LOCATION:
ORGANIZER:
SEQUENCE:1
SUMMARY:Ξάνθη\, Πόλις Ονείρων Μουσικών Σχολείων
TRANSP:OPAQUE
URL:https://www.cityofxanthi.gr/enimerosi/events/xanthe-polis-oneiron-mousi
 kon-scholeion
END:VEVENT
END:VCALENDAR
