BEGIN:VCALENDAR
VERSION:2.0
PRODID:-//Δήμος Ξάνθης//NONSGML kigkonsult.se iCalcreator 2.41.92//
CALSCALE:GREGORIAN
METHOD:PUBLISH
UID:33383437-6131-4062-a137-326461323766
X-WR-CALNAME:iCagenda
X-WR-CALDESC:Event Management Extension for Joomla!
X-WR-RELCALID:3E26604A-50F4-4449-8B3E-E4F4932D05B5
X-WR-TIMEZONE:Europe/Athens
BEGIN:VTIMEZONE
TZID:Europe/Athens
TZUNTIL:20271031T010000Z
BEGIN:STANDARD
TZNAME:EET
DTSTART:20251026T040000
TZOFFSETFROM:+0300
TZOFFSETTO:+0200
RDATE:20261025T040000
END:STANDARD
BEGIN:DAYLIGHT
TZNAME:EEST
DTSTART:20250330T030000
TZOFFSETFROM:+0200
TZOFFSETTO:+0300
RDATE:20260329T030000
RDATE:20270328T030000
END:DAYLIGHT
END:VTIMEZONE
BEGIN:VEVENT
UID:36613665-3364-4931-a635-643235333732
DTSTAMP:20260422T162820Z
CATEGORIES:ΚΑΡΝΑΒΑΛΙ
CLASS:PUBLIC
DESCRIPTION;ALTREP="CID:<FFFF__=0ABBE548DFE235B58f9e8a93d@coffeebean.com>":
 ΞΑΝΘΗ RELOADED – Η πόλη που δεν σταματά να γιορτάζει! \nΗ μεγάλη γιορτή ξε
 κινά!\nΜπείτε στον ρυθμό. Γίνετε η ενέργεια. Ζήστε την απόλυτη επανεκκίνησ
 η. \n&nbsp\;\n The Experience Starts Here:\n&nbsp\;\nΠρόγραμμα των Θρακικώ
 ν Λαογραφικών Εορτών – Ξανθιώτικο Καρναβάλι 2026:\n&nbsp\;\nΚατεβάστε:&nbs
 p\;Το Πρόγραμμα σε PDF\n&nbsp\;\nΔείτε το ανά ημέρα:&nbsp\;Διεύθυνση Πολιτ
 ισμού Δήμου Ξάνθης\n&nbsp\;\nΞεφυλλίστε το πρόγραμμα:\n\n&nbsp\;
DTSTART:20260128T074900Z
DTEND:20260223T074900Z
GEO:00;0
LOCATION:
ORGANIZER:
SEQUENCE:1
SUMMARY:ΘΛΕ - Ξανθιώτικο Καρναβάλι 2026
TRANSP:OPAQUE
URL:https://www.cityofxanthi.gr/component/icagenda/thle-xanthiotiko-karnaba
 li-2026?Itemid=0&layout=vcal
END:VEVENT
END:VCALENDAR
